BEGIN:VCALENDAR
VERSION:2.0
PRODID:-//Midwest Marbling - ECPv6.15.20//NONSGML v1.0//EN
CALSCALE:GREGORIAN
METHOD:PUBLISH
X-WR-CALNAME:Midwest Marbling
X-ORIGINAL-URL:https://midwestmarbling.art
X-WR-CALDESC:Events for Midwest Marbling
REFRESH-INTERVAL;VALUE=DURATION:PT1H
X-Robots-Tag:noindex
X-PUBLISHED-TTL:PT1H
BEGIN:VTIMEZONE
TZID:America/Chicago
BEGIN:DAYLIGHT
TZOFFSETFROM:-0600
TZOFFSETTO:-0500
TZNAME:CDT
DTSTART:20240310T080000
END:DAYLIGHT
BEGIN:STANDARD
TZOFFSETFROM:-0500
TZOFFSETTO:-0600
TZNAME:CST
DTSTART:20241103T070000
END:STANDARD
BEGIN:DAYLIGHT
TZOFFSETFROM:-0600
TZOFFSETTO:-0500
TZNAME:CDT
DTSTART:20250309T080000
END:DAYLIGHT
BEGIN:STANDARD
TZOFFSETFROM:-0500
TZOFFSETTO:-0600
TZNAME:CST
DTSTART:20251102T070000
END:STANDARD
BEGIN:DAYLIGHT
TZOFFSETFROM:-0600
TZOFFSETTO:-0500
TZNAME:CDT
DTSTART:20260308T080000
END:DAYLIGHT
BEGIN:STANDARD
TZOFFSETFROM:-0500
TZOFFSETTO:-0600
TZNAME:CST
DTSTART:20261101T070000
END:STANDARD
END:VTIMEZONE
BEGIN:VEVENT
DTSTART;TZID=America/Chicago:20250507T191000
DTEND;TZID=America/Chicago:20250507T200000
DTSTAMP:20260421T034101
CREATED:20250513T191555Z
LAST-MODIFIED:20250513T191555Z
UID:1152-1746645000-1746648000@midwestmarbling.art
SUMMARY:Marbling Demo by Sally Power &  Mary Holland
DESCRIPTION:
URL:https://midwestmarbling.art/event/marbling-demo-by-sally-power-mary-holland/
LOCATION:Unity Unitarian Church\, 733 Portland Ave\, St Paul\, MN\, 55104\, United States
CATEGORIES:Workshop
END:VEVENT
END:VCALENDAR