BEGIN:VCALENDAR
VERSION:2.0
PRODID:-//Midwest Marbling - ECPv6.15.20//NONSGML v1.0//EN
CALSCALE:GREGORIAN
METHOD:PUBLISH
X-WR-CALNAME:Midwest Marbling
X-ORIGINAL-URL:https://midwestmarbling.art
X-WR-CALDESC:Events for Midwest Marbling
REFRESH-INTERVAL;VALUE=DURATION:PT1H
X-Robots-Tag:noindex
X-PUBLISHED-TTL:PT1H
BEGIN:VTIMEZONE
TZID:America/Chicago
BEGIN:DAYLIGHT
TZOFFSETFROM:-0600
TZOFFSETTO:-0500
TZNAME:CDT
DTSTART:20240310T080000
END:DAYLIGHT
BEGIN:STANDARD
TZOFFSETFROM:-0500
TZOFFSETTO:-0600
TZNAME:CST
DTSTART:20241103T070000
END:STANDARD
BEGIN:DAYLIGHT
TZOFFSETFROM:-0600
TZOFFSETTO:-0500
TZNAME:CDT
DTSTART:20250309T080000
END:DAYLIGHT
BEGIN:STANDARD
TZOFFSETFROM:-0500
TZOFFSETTO:-0600
TZNAME:CST
DTSTART:20251102T070000
END:STANDARD
BEGIN:DAYLIGHT
TZOFFSETFROM:-0600
TZOFFSETTO:-0500
TZNAME:CDT
DTSTART:20260308T080000
END:DAYLIGHT
BEGIN:STANDARD
TZOFFSETFROM:-0500
TZOFFSETTO:-0600
TZNAME:CST
DTSTART:20261101T070000
END:STANDARD
END:VTIMEZONE
BEGIN:VEVENT
DTSTART;TZID=America/Chicago:20250111T100000
DTEND;TZID=America/Chicago:20250111T160000
DTSTAMP:20260423T051141
CREATED:20241104T003634Z
LAST-MODIFIED:20241115T015536Z
UID:677-1736589600-1736611200@midwestmarbling.art
SUMMARY:Intro to Marbling at MCBA with Olga Ricalde
DESCRIPTION:Experience the magic of marbling firsthand with this single-day\, in-person workshop! Learn the basic process of paper marbling with acrylics\, including recipes for the various components of the process. Make four basic patterns (stones\, moire/waved\, git-gel\, and nonpareil)\, explore seasonal color palettes\, and take home your own marbled papers ready to be used in bookbinding and other arts. Participants will leave the workshop with the confidence to work independently at MCBA’s Marbling Labs. \nREGISTER HERE
URL:https://midwestmarbling.art/event/intro-to-marbling-at-mcba-with-olga-ricalde/
LOCATION:Minnesota Center for the Book Arts\, 1011 Washington Avenue S.\, Suite 100\, Minneapolis\, 55415\, United States
CATEGORIES:Workshop
END:VEVENT
BEGIN:VEVENT
DTSTART;TZID=America/Chicago:20250125T100000
DTEND;TZID=America/Chicago:20250125T160000
DTSTAMP:20260423T051141
CREATED:20241104T003954Z
LAST-MODIFIED:20250108T201555Z
UID:683-1737799200-1737820800@midwestmarbling.art
SUMMARY:Mini Marbling at MCBA with Parry Callwallader
DESCRIPTION:Honey\, I shrunk the marbling combs! Experience the patterns and designs you know and love\, but now at a smaller scale. Work with combs much smaller than the average nonpareil comb—all the way down to 1/16 of an inch between tines. Watch how patterns you’ve been doing for years shine in a new light when reduced to one fourth the size. \nIn this in-person workshop\, we’ll start by introducing participants to correct handling of the smaller combs\, demonstrate some common patterns\, and then participants will be free to experiment and explore new designs with the small combs. \nIntroduction to Marbling or other introductory marbling experience is required to register for this patterns-heavy workshop.\nREGISTER HERE
URL:https://midwestmarbling.art/event/mini-marbling-with-parry-callwallader/
LOCATION:Minnesota Center for the Book Arts\, 1011 Washington Avenue S.\, Suite 100\, Minneapolis\, 55415\, United States
CATEGORIES:Workshop
END:VEVENT
END:VCALENDAR